BEGIN:VCALENDAR
VERSION:2.0
PRODID:-//eventon.com NONSGML v1.0//EN
CALSCALE:GREGORIAN
METHOD:PUBLISH
BEGIN:VEVENT
UID:69e6354f2c008
DTSTAMP:20260420T141647Z
DTSTART:20251201
DTEND:20251202
LOCATION:Colorado Animal Rescue 2801 County Road 114
SUMMARY:BISSELL Empty the Shelters
DESCRIPTION:From December 1-15\,  adoption fees for all dogs and cats at Co
 lorado Animal Rescue will be $25 courtesy of the BISSELL Pet Foundation! P
 lease submit an adoption survey prior to calling. Appointments are required
 .\nhttps://www.coloradoanimalrescue.org/events/empty-the-shelters/
URL:https://www.coloradoanimalrescue.org/events/empty-the-shelters/
END:VEVENT
END:VCALENDAR