BEGIN:VCALENDAR
VERSION:2.0
PRODID:-//eventon.com NONSGML v1.0//EN
CALSCALE:GREGORIAN
METHOD:PUBLISH
BEGIN:VEVENT
UID:69e64a3a1c184
DTSTAMP:20260420T154602Z
DTSTART:20250906
DTEND:20250907
LOCATION:TACAW (The Arts Campus at Willits) 400 Robinson St.
SUMMARY:Dressed to the K9s
DESCRIPTION:This event has passed. Thank you for supporting shelter pets &#
 8211; see you in 2026! TACAW | 400 ROBINSON ST. | BASALT\,  CO Colorado Ani
 mal Rescue is excited to welcome you back to TACAW (The Arts Campus at Will
 its) on September 6th\,  2025.  We welcome you to get dressed up[..]\nhttp
 s://www.coloradoanimalrescue.org/events/dressed-to-the-k9s/
URL:https://www.coloradoanimalrescue.org/events/dressed-to-the-k9s/
END:VEVENT
END:VCALENDAR